0.00582400000
0.0
0.000
-0.005824000000
-73.845036000
45.0700360
