0.0058240000
0.0
0.00
-0.0058240000
-73.845036000
45.0700360
