0.010198000
0.00
0.0
-0.010198
-152.6000910000
70.134091000
