0.00512700
0.0
0.00
-0.005127000000
-99.8664880000
35.13648800
