0.00525000
0.000
0.0
-0.005250000
-106.2441310
37.25913100
