0.0056810000
0.0
0.000
-0.005681000
-83.05859800
43.372598
