0.005014
0.0
0.0
-0.005014000
-84.2091480
32.9921480
