0.00582400
0.0
0.00
-0.00582400000
-73.8450360
45.07003600
