0.00582400000
0.000
0.00000
-0.005824000000
-73.845036000
45.0700360
